
BEGIN:VCALENDAR
VERSION:2.0
PRODID:-//New York 2030 - ECPv6.11.2.1//NONSGML v1.0//EN
CALSCALE:GREGORIAN
METHOD:PUBLISH
X-WR-CALNAME:New York 2030
X-ORIGINAL-URL:https://2030districts.org/newyork
X-WR-CALDESC:Events for New York 2030
REFRESH-INTERVAL;VALUE=DURATION:PT1H
X-Robots-Tag:noindex
X-PUBLISHED-TTL:PT1H
BEGIN:VTIMEZONE
TZID:UTC
BEGIN:STANDARD
TZOFFSETFROM:+0000
TZOFFSETTO:+0000
TZNAME:UTC
DTSTART:20210101T000000
END:STANDARD
END:VTIMEZONE
BEGIN:VEVENT
DTSTART;TZID=UTC:20250724T183000
DTEND;TZID=UTC:20250724T193000
DTSTAMP:20260424T140924
CREATED:20250715T205803Z
LAST-MODIFIED:20250715T210005Z
UID:1933-1753381800-1753385400@2030districts.org
SUMMARY:NYC2030 Energy Retrofit Webinar
DESCRIPTION:Calling Property Owners and Managers! Please join NYC2030 & NoHo BID on July 24th @ 6.30pm for an informative FREE webinar on energy retrofits. \nNYC2030 assists Multi-Family and Residential-Commercial properties with energy retrofits\, coordinating with the NYC Accelerator to facilitate your project. NYC2030 is a non-profit partnership of stakeholders dedicated to collaborative\, community-scale climate progress. \nThe webinar will: \n\nIntroduce the NYC2030 service provider team\nPresent multi-family energy retrofit case studies\nDescribe the retrofit process to comply with LL97\n\nThe LL97 ’25 Reporting Extension submission is due 8/29/2025\, Final submission is due 12/31/2025 \nRegister here: https://us02web.zoom.us/meeting/register/Gm7erdf1Su62pZ8E4xbi7Q
URL:https://2030districts.org/newyork/event/nyc2030-energy-retrofit-webinar/
LOCATION:NY
END:VEVENT
BEGIN:VEVENT
DTSTART;TZID=UTC:20240620T083000
DTEND;TZID=UTC:20240620T150000
DTSTAMP:20260424T140924
CREATED:20240612T010256Z
LAST-MODIFIED:20240701T191126Z
UID:1820-1718872200-1718895600@2030districts.org
SUMMARY:2024 Energy Summit and Expo
DESCRIPTION:The Brooklyn Chamber of Commerce would like to invite you to join us at the upcoming 2024 Energy Summit and Expo on Thursday\, June 20 at Dock 72 in the Brooklyn Navy Yard featuring Andrew Kimball\, President & CEO of the NYC Economic Development Corporation and Lisa Garcia\, Regional Administrator for EPA’s Region 2 office. This must-attend event will bring together over twenty-five experts in renewable energy\, workforce development\, energy infrastructure\, and energy policy. \n🔋 Explore the popular Energy Expo\, showcasing the latest technologies\, innovations\, and organizations in the energy sector. \n🎤 The Summit will conclude with a closing Keynote by Bill Weir\, CNN Anchor\, and Chief Climate Correspondent\, who will share his valuable insights on climate change and environmental reporting. \nDon’t miss this opportunity to connect\, learn\, and be inspired by leading voices in the energy industry! \nRegister at: tinyurl.com/2024EnergySummit
URL:https://2030districts.org/newyork/event/2024-energy-summit-and-expo/
LOCATION:Dock 72\, Brooklyn Navy Yard\, 1 Dock 72 Wy\, Brooklyn\, NY\, 11205\, United States
ATTACH;FMTTYPE=image/png:https://2030districts.org/newyork/wp-content/uploads/sites/19/2024energysummit.png
END:VEVENT
BEGIN:VEVENT
DTSTART;TZID=UTC:20240328T180000
DTEND;TZID=UTC:20240328T200000
DTSTAMP:20260424T140924
CREATED:20240318T040301Z
LAST-MODIFIED:20240324T162919Z
UID:1785-1711648800-1711656000@2030districts.org
SUMMARY:Proptech @ Pratt
DESCRIPTION:Proptech @ Pratt \nA Free Networking Event hosted by Pratt Institute and ROI Consulting Group. Thanks to Tony Gelber for inviting all NYC2030 Partners for the Happy Hour from 6-8pm. \nPratt Institute-Manhattan Campus \n144 West 14th Street\, 2nd Floor\, New York\, NY \nREGISTER:   https://roicg.com/event/proptech-pratt-2024/
URL:https://2030districts.org/newyork/event/proptech-pratt/
LOCATION:NY
END:VEVENT
BEGIN:VEVENT
DTSTART;TZID=UTC:20221207T180000
DTEND;TZID=UTC:20221207T180000
DTSTAMP:20260424T140924
CREATED:20210316T181453Z
LAST-MODIFIED:20221207T194122Z
UID:1501-1670436000-1670436000@2030districts.org
SUMMARY:Ready for the Green Recovery: Webinar
DESCRIPTION:[vc_row type=”in_container” full_screen_row_position=”middle” column_margin=”default” column_direction=”default” column_direction_tablet=”default” column_direction_phone=”default” scene_position=”center” text_color=”dark” text_align=”left” row_border_radius=”none” row_border_radius_applies=”bg” overflow=”visible” overlay_strength=”0.3″ gradient_direction=”left_to_right” shape_divider_position=”bottom” bg_image_animation=”none”][vc_column column_padding=”no-extra-padding” column_padding_tablet=”inherit” column_padding_phone=”inherit” column_padding_position=”all” column_element_direction_desktop=”default” column_element_spacing=”default” desktop_text_alignment=”default” tablet_text_alignment=”default” phone_text_alignment=”default” background_color_opacity=”1″ background_hover_color_opacity=”1″ column_backdrop_filter=”none” column_shadow=”none” column_border_radius=”none” column_link_target=”_self” column_position=”default” gradient_direction=”left_to_right” overlay_strength=”0.3″ width=”1/1″ tablet_width_inherit=”default” animation_type=”default” bg_image_animation=”none” border_type=”simple” column_border_width=”none” column_border_style=”solid”][vc_column_text]Webinar: Tues. March 16th\, 6:30-7:30 +Q&A \nRegistration link:\nhttps://attendee.gotowebinar.com/register/3004164147987193359 \nGet a Head Start on Your Green Retrofit! The incentives are great for small business clean heating & cooling systems. We’ll help you with an energy audit and connect you with approved contractors. Workforce training classes are available for the green jobs of the new economy.[/vc_column_text][/vc_column][/vc_row]
URL:https://2030districts.org/newyork/event/ready-for-the-green-recovery-webinar/
LOCATION:NY
END:VEVENT
BEGIN:VEVENT
DTSTART;TZID=UTC:20210222T153000
DTEND;TZID=UTC:20210222T170000
DTSTAMP:20260424T140924
CREATED:20210202T181042Z
LAST-MODIFIED:20221207T194249Z
UID:1498-1614007800-1614013200@2030districts.org
SUMMARY:CLIMATE CHANGE IN THE NEIGHBORHOOD WEBINAR 2/2 6:30pm
DESCRIPTION:Register Here: \nhttps://register.gotowebinar.com/register/760615068430078988 \nJoin First Unitarian Church\, 350BK and Heat/Cool Smart Brooklyn for a green retrofit webinar on February 2nd\, 6:30 to 7:30pm + Q&A. We’ll present the 2021 programs & incentives for clean heating and cooling projects in 1-4 family homes. Stop burning fossil fuels in your basement!\nHCSB is promoting green retrofits in Brooklyn homes & buildings to save energy\, money and the planet!\nBuildings with energy efficient envelopes and clean heating & cooling systems will keep you comfortable all year round\, lower your energy costs\, reduce your carbon footprint and improve your neighborhood environment. HCSB is funded by NYSERDA and sponsored by Brooklyn Borough President Eric Adams.
URL:https://2030districts.org/newyork/event/climate-change-in-the-neighborhood-webinar-2-2-630pm/
LOCATION:NY
END:VEVENT
END:VCALENDAR