
BEGIN:VCALENDAR
VERSION:2.0
PRODID:-//Lansing - ECPv6.11.2.1//NONSGML v1.0//EN
CALSCALE:GREGORIAN
METHOD:PUBLISH
X-WR-CALNAME:Lansing
X-ORIGINAL-URL:https://2030districts.org/lansing
X-WR-CALDESC:Events for Lansing
REFRESH-INTERVAL;VALUE=DURATION:PT1H
X-Robots-Tag:noindex
X-PUBLISHED-TTL:PT1H
BEGIN:VTIMEZONE
TZID:America/New_York
BEGIN:DAYLIGHT
TZOFFSETFROM:-0500
TZOFFSETTO:-0400
TZNAME:EDT
DTSTART:20250309T070000
END:DAYLIGHT
BEGIN:STANDARD
TZOFFSETFROM:-0400
TZOFFSETTO:-0500
TZNAME:EST
DTSTART:20251102T060000
END:STANDARD
END:VTIMEZONE
BEGIN:VTIMEZONE
TZID:UTC
BEGIN:STANDARD
TZOFFSETFROM:+0000
TZOFFSETTO:+0000
TZNAME:UTC
DTSTART:20250101T000000
END:STANDARD
END:VTIMEZONE
BEGIN:VEVENT
DTSTART;TZID=America/New_York:20250709T120000
DTEND;TZID=America/New_York:20250709T130000
DTSTAMP:20260424T105620
CREATED:20250627T132013Z
LAST-MODIFIED:20250707T143745Z
UID:3178-1752062400-1752066000@2030districts.org
SUMMARY:Lansing Leads: Multifamily EV Charging Solutions
DESCRIPTION:[vc_row type=”in_container” full_screen_row_position=”middle” column_margin=”default” column_direction=”default” column_direction_tablet=”default” column_direction_phone=”default” scene_position=”center” text_color=”dark” text_align=”left” row_border_radius=”none” row_border_radius_applies=”bg” overflow=”visible” overlay_strength=”0.3″ gradient_direction=”left_to_right” shape_divider_position=”bottom” bg_image_animation=”none”][vc_column column_padding=”no-extra-padding” column_padding_tablet=”inherit” column_padding_phone=”inherit” column_padding_position=”all” column_element_direction_desktop=”default” column_element_spacing=”default” desktop_text_alignment=”default” tablet_text_alignment=”default” phone_text_alignment=”default” background_color_opacity=”1″ background_hover_color_opacity=”1″ column_backdrop_filter=”none” column_shadow=”none” column_border_radius=”none” column_link_target=”_self” column_position=”default” gradient_direction=”left_to_right” overlay_strength=”0.3″ width=”1/1″ tablet_width_inherit=”default” animation_type=”default” bg_image_animation=”none” border_type=”simple” column_border_width=”none” column_border_style=”solid”][vc_column_text] \nA LANSING 2030 DISTRICT PARNER EVENT | Register Here \nJoin Charge at Home for an engaging webinar designed to help you lead the charge in bringing electric vehicle (EV) infrastructure to multifamily communities. Discover local\, state and national incentives available to support the installation of EV charging stations\, and gain valuable insights into the tools needed to make it happen. With guidance from our expert partners\, this session is tailored for property owners\, developers and residents looking to drive sustainability and innovation in their communities \n\nJuly 9\, 2025\n12PM – 1PM Eastern Time\nVirtual Event\n\n[/vc_column_text][/vc_column][/vc_row]
URL:https://2030districts.org/lansing/event/lansingleads/
LOCATION:MI
CATEGORIES:Event
END:VEVENT
BEGIN:VEVENT
DTSTART;TZID=UTC:20250618T110000
DTEND;TZID=UTC:20250618T120000
DTSTAMP:20260424T105620
CREATED:20250611T173710Z
LAST-MODIFIED:20250611T180236Z
UID:3162-1750244400-1750248000@2030districts.org
SUMMARY:Lansing 2030 District – Energy Savings 101 – Tips\, Tricks\, and Tools
DESCRIPTION:A LANSING 2030 DISTRICT EVENT | Register for this event here. \nJoin the Lansing 2030 District for a crash course on Energy Savings Basics in collaboration with experts from Michigan State University’s Industrial Training and Assessment Center (ITAC) Team and Slipstream. \nThis session is designed for building owners\, managers\, facility staff\, community stakeholders and champions within the Lansing 2030 District who are looking to understand and implement foundational energy-saving strategies. \nWhat You’ll Learn: \n\nThe “Why”: Take a quick look at how energy savings plays a role in achieving the Lansing 2030 District’s goals for carbon reduction and saves you money.\nTake Steps for Immediate Impact: Discover straightforward\, actionable steps you can take to reduce energy waste in your building.\nTools\, Tech & Support: Get an introduction to common energy-saving technologies\, techniques\, and tools\, plus guidance on how to access the resources and support for your energy efficiency journey.\nQ&A with the Experts: Have your questions answered by the knowledgeable teams from Slipstream and MSU ITAC.\n\nWhether you’re just starting your energy efficiency journey or looking for a refresher on fundamental principles\, this webinar will provide you with the essential knowledge to make a noticeable difference. \nRegister today to continue towards a more energy-efficient and resilient Lansing! \nHost/Facilitator:\nAudrey Whaling – Program Manager\, Lansing 2030 District \nMain Presenters:\nDr. Kristen Cetin (MSU ITAC)\nJosh Petersen (Slipstream) \nAvailable During Q&A:\nJulianna Thompson (MSU ITAC)\nDebrudra Mitra (MSU ITAC)\nGlenn Voisin (Slipstream)\nNate Simon (Slipstream)
URL:https://2030districts.org/lansing/event/lansing-2030-district-energy-savings-101-tips-tricks-and-tools/
LOCATION:MI
CATEGORIES:Webinar
END:VEVENT
BEGIN:VEVENT
DTSTART;TZID=UTC:20250508T083000
DTEND;TZID=UTC:20250508T163000
DTSTAMP:20260424T105620
CREATED:20250319T201615Z
LAST-MODIFIED:20250609T150018Z
UID:3062-1746693000-1746721800@2030districts.org
SUMMARY:Michigan Energy Summit
DESCRIPTION:[vc_row type=”in_container” full_screen_row_position=”middle” column_margin=”default” column_direction=”default” column_direction_tablet=”default” column_direction_phone=”default” scene_position=”center” text_color=”dark” text_align=”left” row_border_radius=”none” row_border_radius_applies=”bg” overflow=”visible” overlay_strength=”0.3″ gradient_direction=”left_to_right” shape_divider_position=”bottom” bg_image_animation=”none”][vc_column column_padding=”no-extra-padding” column_padding_tablet=”inherit” column_padding_phone=”inherit” column_padding_position=”all” column_element_direction_desktop=”default” column_element_spacing=”default” desktop_text_alignment=”default” tablet_text_alignment=”default” phone_text_alignment=”default” background_color_opacity=”1″ background_hover_color_opacity=”1″ column_backdrop_filter=”none” column_shadow=”none” column_border_radius=”none” column_link_target=”_self” column_position=”default” gradient_direction=”left_to_right” overlay_strength=”0.3″ width=”1/1″ tablet_width_inherit=”default” animation_type=”default” bg_image_animation=”none” border_type=”simple” column_border_width=”none” column_border_style=”solid”][vc_column_text] \nA MICHIGAN GREEN BUILDING COLLABORATIVE EVENT | \nJoin us at the premier Michigan Energy Summit! This full-day conference will highlight the Michigan Battle of the Buildings 2024 ‘Biggest Losers’ for their outstanding energy conservation efforts. Attendees can expect a comprehensive program\, including keynote speakers\, breakout sessions\, a full exhibitor hall\, and conclude with a happy hour sponsored by the Detroit Lions! \nTopics will include: \n\nNavigating the New Michigan Energy Code: ASHRAE 90.1 – 2019\nLocal government in action\nGreen building certification updates\nStudent-led presentations showcasing innovative energy solutions\nFinancing & incentives opportunities\nCompetitor success stories\n\nTo learn more and register for this event click here.[/vc_column_text][/vc_column][/vc_row]
URL:https://2030districts.org/lansing/event/michigan-energy-summit/
LOCATION:JW Marriott\, 235 Louis Campau Promenade NW\, Grand Rapids\, MI\, 49503\, United States
CATEGORIES:Event,MiGBC Event
END:VEVENT
BEGIN:VEVENT
DTSTART;VALUE=DATE:20250422
DTEND;VALUE=DATE:20250424
DTSTAMP:20260424T105620
CREATED:20250319T192008Z
LAST-MODIFIED:20250319T194634Z
UID:3050-1745280000-1745452799@2030districts.org
SUMMARY:MI Healthy Climate Conference 2025
DESCRIPTION:Join the Michigan Department of Environment\, Great Lakes\, and Energy (EGLE) for the third annual MI Healthy Climate Conference on April 22-23\, 2025\, at the Huntington Place in Detroit! \nLearn more and register here.
URL:https://2030districts.org/lansing/event/mi-healthy-climate-conference-2025/
LOCATION:Huntington Place\, 1 Washington Blvd\, Detroit\, MI\, 48226
CATEGORIES:Event
END:VEVENT
BEGIN:VEVENT
DTSTART;TZID=UTC:20250402T080000
DTEND;TZID=UTC:20250402T170000
DTSTAMP:20260424T105620
CREATED:20250319T175703Z
LAST-MODIFIED:20250319T194313Z
UID:3043-1743580800-1743613200@2030districts.org
SUMMARY:MIEIBC 13th Annual Michigan Energy Innovators Conference
DESCRIPTION:MIEIBC Panel Moderation – Decarbonizing Industrial Processes: New Technologies\, Economic Growth\, and Electric Loads \nRegister and learn more here.
URL:https://2030districts.org/lansing/event/mieibc-13th-annual-michigan-energy-innovators-conference/
LOCATION:Kellogg Center\, 219 S Harrison Rd\, East Lansing\, MI\, 48824
CATEGORIES:Event
END:VEVENT
BEGIN:VEVENT
DTSTART;TZID=UTC:20250327T100000
DTEND;TZID=UTC:20250327T110000
DTSTAMP:20260424T105620
CREATED:20250317T171252Z
LAST-MODIFIED:20250319T194319Z
UID:3038-1743069600-1743073200@2030districts.org
SUMMARY:Power Your Savings: Incentives\, Rebates and Funding for Efficiency WEBINAR
DESCRIPTION:Are you a Lansing-area business owner\, property manager\, or local organization looking to reduce energy costs and contribute to a more sustainable community? Join us for an informative webinar focused on maximizing energy efficiency through available rebates\, incentives\, and funding opportunities \nIn this webinar we will explore: \n\nAvailable incentives and valuable rebates\nInsights on lowering energy bills and cost-effective upgrades\nAccess to funding resources\n\nWhether you’re planning a small improvement project or a large-scale commercial retrofit\, this webinar will equip you with the knowledge and resources you need to make informed decisions and achieve significant energy savings. \nHost/Facilitator: Audrey Whaling – Program Manager\, Lansing 2030 District \nOur guest speakers include: \n\nJennifer Binkley-Power – Lansing Board of Water and Light\nConsumers Energy\nMary Freeman – Lean & Green Michigan/PACE\nBob Foster – Michigan Saves\nCody Evans – EGLE\n\nRegister today and join us to learn how you can start saving! Register here.
URL:https://2030districts.org/lansing/event/power-your-savings-incentives-rebates-and-funding-for-efficiency-webinar/
LOCATION:MI
CATEGORIES:Event,Webinar
END:VEVENT
BEGIN:VEVENT
DTSTART;TZID=UTC:20250226T120000
DTEND;TZID=UTC:20250226T130000
DTSTAMP:20260424T105620
CREATED:20250130T183215Z
LAST-MODIFIED:20250130T183215Z
UID:2969-1740571200-1740574800@2030districts.org
SUMMARY:2030 Districts Network Webinar – Forecast 2025: Commercial Real Estate and Climate Actions in the New Administration
DESCRIPTION:Join three thought leaders and partners of the 2030 Districts Network to hear their views for the commercial real estate market and climate change actions in the coming year. 2030 Network Executive Director\, Dave Low\, will lead the discussion and open with remarks on Network plans for the year. \nRegister for this webinar here.
URL:https://2030districts.org/lansing/event/2030-districts-network-webinar-forecast-2025-commercial-real-estate-and-climate-actions-in-the-new-administration/
LOCATION:MI
CATEGORIES:Webinar
END:VEVENT
BEGIN:VEVENT
DTSTART;TZID=UTC:20250225T100000
DTEND;TZID=UTC:20250225T110000
DTSTAMP:20260424T105620
CREATED:20250130T183006Z
LAST-MODIFIED:20250212T205525Z
UID:2968-1740477600-1740481200@2030districts.org
SUMMARY:Introducing the Emerging Lansing 2030 District WEBINAR
DESCRIPTION:This insightful webinar will explore the emerging Lansing 2030 District! Hear directly from the Program Manager\, Audrey Whaling\, the City of Lansing’s Sustainability Manager\, Lori Welch\, and other key members as they share the story behind this exciting initiative\, why it was developed\, how it aligns with the city’s sustainability goals and how you can benefit. \nIn this session\, you’ll learn: \n\nWhat a 2030 District is and how they support energy efficiency and sustainability in urban environments\nThe benefits of becoming a member or partnering with the Lansing 2030 District\nSuccess story highlights from members\nAvailable resources and tools that the 2030 District offers to support building owners\, managers\, and other stakeholders in achieving their goals related to sustainability\, energy efficiency\, carbon reduction\, energy cost savings\, and healthy buildings.\n\nWhether you’re a building owner\, property manager\, local business\, or sustainability professional\, this webinar will provide valuable information on how you can get involved and take advantage of the resources the Lansing 2030 District offers. \nSpeakers:  \nLori Welch – Sustainability Manager\, City of Lansing\, Michigan\nAudrey Whaling – Program Manager\, Lansing 2030 District \nRegister for this webinar here.
URL:https://2030districts.org/lansing/event/introducing-the-emerging-lansing-2030-district-webinar/
LOCATION:MI
CATEGORIES:Webinar
END:VEVENT
END:VCALENDAR