
BEGIN:VCALENDAR
VERSION:2.0
PRODID:-//Greater Victoria - ECPv6.11.2.1//NONSGML v1.0//EN
CALSCALE:GREGORIAN
METHOD:PUBLISH
X-WR-CALNAME:Greater Victoria
X-ORIGINAL-URL:https://2030districts.org/greater-victoria
X-WR-CALDESC:Events for Greater Victoria
REFRESH-INTERVAL;VALUE=DURATION:PT1H
X-Robots-Tag:noindex
X-PUBLISHED-TTL:PT1H
BEGIN:VTIMEZONE
TZID:America/Denver
BEGIN:DAYLIGHT
TZOFFSETFROM:-0700
TZOFFSETTO:-0600
TZNAME:MDT
DTSTART:20260308T090000
END:DAYLIGHT
BEGIN:STANDARD
TZOFFSETFROM:-0600
TZOFFSETTO:-0700
TZNAME:MST
DTSTART:20261101T080000
END:STANDARD
END:VTIMEZONE
BEGIN:VEVENT
DTSTART;TZID=America/Denver:20260513T100000
DTEND;TZID=America/Denver:20260513T233000
DTSTAMP:20260424T144108
CREATED:20260422T155904Z
LAST-MODIFIED:20260423T191357Z
UID:1898-1778666400-1778715000@2030districts.org
SUMMARY:Members Meeting (virtual) "CRD Reporting (to Action) & BERM update"
DESCRIPTION:Whether you are preparing to report under the City of Victoria or District of Saanich commercial building bylaws—or simply want to better understand your building’s performance—you’re invited to join our next Greater Victoria 2030 District member meeting. \n📅 Wednesday\, May 13 | 10:00–11:30 AM | Zoom\nOpen to members and non-members\nClick here to Register \nPoster for May 13\, 2026 webinar. \nThis session will explore the pathway from reporting → understanding your data → taking practical\, cost-saving action\, with support available at every step. \nWe know reporting requirements can feel complex and time-consuming. This session is designed to help make that process easier\, more useful\, and more actionable—whether you are reporting this year or not. \nWhat we’ll cover: \nGuidance on reporting and common challenges\nPractical support for navigating Victoria and Saanich requirements\, including what we are seeing across buildings and common pain points.\nFrom Reporting to Action (R2A) Pilot\nAn introduction to our new pilot program providing hands-on support to help building owners:\n\nUnderstand what their data is really saying\nIdentify practical\, funded opportunities\nMove from compliance to energy and cost savings at their own pace\n\nThe new BC Building Electrification Roadmap (BERM)\nAn overview of highlighting practical actions to address key barriers\, align stakeholders\, and scale low-carbon buildings—plus what it means for your work today. \nEven if your building is not currently required to report\, this session is a chance to better understand performance\, uncover opportunities\, and learn how structured support can help reduce energy use and operating costs. \nWe will also share how participation in the Greater Victoria 2030 District can support you beyond compliance—through peer learning\, tools\, and practical implementation support. \nRegister here: https://us06web.zoom.us/meeting/register/tGVhSdJ1S4CmafX_zZDNJA \nWe hope you’ll join us. \nPDF copy of poster: \nGV2030D Event flyer 2026 May 13
URL:https://2030districts.org/greater-victoria/event/members-meeting-virtual-crd-reporting-to-action-berm-update/
LOCATION:Zoom\, British Columbia\, Canada
CATEGORIES:Members' Meeting
END:VEVENT
END:VCALENDAR