
BEGIN:VCALENDAR
VERSION:2.0
PRODID:-//Grand Rapids - ECPv6.11.2.1//NONSGML v1.0//EN
CALSCALE:GREGORIAN
METHOD:PUBLISH
X-WR-CALNAME:Grand Rapids
X-ORIGINAL-URL:https://2030districts.org/grandrapids
X-WR-CALDESC:Events for Grand Rapids
REFRESH-INTERVAL;VALUE=DURATION:PT1H
X-Robots-Tag:noindex
X-PUBLISHED-TTL:PT1H
BEGIN:VTIMEZONE
TZID:UTC
BEGIN:STANDARD
TZOFFSETFROM:+0000
TZOFFSETTO:+0000
TZNAME:UTC
DTSTART:20250101T000000
END:STANDARD
END:VTIMEZONE
BEGIN:VEVENT
DTSTART;TZID=UTC:20260415T100000
DTEND;TZID=UTC:20260415T111500
DTSTAMP:20260421T162036
CREATED:20260325T211722Z
LAST-MODIFIED:20260325T220204Z
UID:3085-1776247200-1776251700@2030districts.org
SUMMARY:WEBINAR - Efficiency and Sustainability Through Prefab Mass Timber Hybrid Construction: Lessons from WMU
DESCRIPTION:A MiGBC WEBINAR | Register for this event here. \nDescription:\n \nWestern Michigan University’s new first-year residence hall represents a new model for delivering student housing that balances sustainability\, affordability\, speed\, and student experience. Designed using a hybrid mass timber approach\, the 1\,000+ bed\, 270\,000-square-foot residence hall demonstrates how mass timber and prefabrication can transform large-scale campus projects. \nIn this webinar\, project partners from WMU\, Hanbury\, The Christman Company\, and Britt\, Peters and Associates will share lessons learned from planning and delivering one of Michigan’s most innovative student housing developments. Panelists will discuss how mass timber helped accelerate construction timelines\, reduce embodied carbon\, and create healthier\, biophilic living environments while meeting aggressive budget and schedule goals. \nAttendees will gain insight into the design-build collaboration\, structural and engineering considerations\, and sustainability outcomes that make this project a replicable model for universities and large residential developments nationwide \nKey takeaways: \n\nHow mass timber and prefabrication enabled accelerated construction and improved project delivery timelines\nStrategies for reducing embodied carbon in large-scale residential projects and the role of exposed timber and biophilic design in supporting student wellness and satisfaction.\nDesign considerations for integrating mass timber into student housing while maintaining affordability\nOpportunities for scaling mass timber solutions across higher education and similar building types\n\nThis webinar will be valuable for: \nHigher education facilities and housing leaders\, architects\, engineers\, construction professionals\, sustainability and campus planning professionals\, developers\, owners exploring mass timber construction\, and anyone interested in learning more about Mass Timber construction in Michigan. \nPanelists: \n\nBarry A Olson\, Associate Vice President for Student Affairs at Western Michigan University (Owner)\nTodd Champion\, Senior Project Manager at Christman Co. (Construction Manager)\nJared Coffin\, Design Principal\,  at Hanbury (Architect)\nDavid Impson\, Vice President\, at Britt\, Peters  and Associates (Structural Engineer  of Record & Mass Timber Engineer)\n\nModerator:\nSandra Lupien\, Director\, MassTimber@MSU\, Michigan State University \nRegister for this webinar today. \n\nAbout this webinar series:\nThis series of webinars is co-produced by the Michigan Green Building Collaborative and MassTimber@MSU\, showcasing key projects across Michigan. In each webinar we explore the origins of each project\, their successes and challenges\, and how the project teams have continued to advance mass timber initiatives. Each building is unique in its approach and material usage. \nLearn more about the Mass Timber Webinar Series here. \n\nIn case you missed it\, Sandra Lupien\, Director of MassTimber@MSU\, delivered the keynote address at the MiGBC 2024 Annual Party & Leadership Awards Ceremony. During her address\, she provided insights into what mass timber is\, highlighted notable projects\, and shared guidance on incorporating mass timber into your own projects. It’s a fantastic resource for anyone interested in learning more about mass timber. Watch it on our YouTube Channel @MichiganGBC or by clicking here.
URL:https://2030districts.org/grandrapids/event/webinar-efficiency-and-sustainability-through-prefab-mass-timber-hybrid-construction-lessons-from-wmu/
CATEGORIES:Webinar
END:VEVENT
BEGIN:VEVENT
DTSTART;TZID=UTC:20260318T120000
DTEND;TZID=UTC:20260318T130000
DTSTAMP:20260421T162036
CREATED:20260311T133415Z
LAST-MODIFIED:20260311T134036Z
UID:3080-1773835200-1773838800@2030districts.org
SUMMARY:WEBINAR - LEED v5 in Action: Sustainable Design at John Ball Zoo’s African Expansion
DESCRIPTION:A MiGBC WEBINAR | Register for this event here. \nDescription:\nJoin us for a dynamic one-hour webinar exploring the latest in sustainable building practices with LEED v5. This session will cover both the key updates and critical changes in LEED v5\, as well as a real-world application at John Ball Zoo in Grand Rapids\, Michigan. Learn how the Zoo is implementing v5 principles in their new African Expansion project\, demonstrating sustainable design in action. \nKey Takeaways: \n\nUnderstand the most important updates and changes in LEED v5.\nLearn critical information and best practices for applying LEED v5 to new projects.\nSee a real-life case study of John Ball Zoo’s Giraffe & African expansion using LEED v5.\nGain actionable insights for implementing sustainable design strategies in your own projects.\n\nThis webinar will be valuable for:\nArchitects\, designers\, project managers\, sustainability professionals\, and anyone interested in the latest developments in LEED certification and sustainable design practices. \nPanelists: \n\nKelsey Groesbeck\, Director of Building Science\, TowerPinkster\nAllmon Forrester\,  Director of Facilities\, Planning\, and Sustainability\, John Ball Zoo\nSharlyn Thacker\, Sustainability Consultant\, Catalyst Partners\n\nModerator:\nKayla Snyder\, Senior Programs Manager\, Michigan Green Building Collaborative \nRegister for this webinar today.
URL:https://2030districts.org/grandrapids/event/leed-v5-johnballzoo/
CATEGORIES:Webinar
END:VEVENT
BEGIN:VEVENT
DTSTART;TZID=UTC:20250904T110000
DTEND;TZID=UTC:20250904T120000
DTSTAMP:20260421T162036
CREATED:20250814T160008Z
LAST-MODIFIED:20250814T160008Z
UID:3055-1756983600-1756987200@2030districts.org
SUMMARY:WEBINAR Energy Benchmarking 101: What Works\, What Doesn’t\, & Why
DESCRIPTION:A LANSING 2030 DISTRICT EVENT | Register for this event here. \nAre you trying to make sense of your building’s energy data? Do you have access to the tools and resources available to help you get there? Do you need help getting started? \nJoin the Lansing 2030 District for a deep dive into Energy Benchmarking Basics in collaboration with experts from Michigan State University’s Industrial Training and Assessment Center (ITAC) Team\, Midwest Energy Efficiency Alliance (MEEA) & Baumann Consulting. \nWhether you’re new to benchmarking or looking to improve your current process\, this session will equip you with the knowledge and tools to measure your building’s performance effectively and avoid expensive mistakes. \nWhat You’ll Learn: \n\nEnergy Benchmarking: What is it?\nEssential tools and actionable steps that deliver results\nThe most common benchmarking errors and how to avoid them\nReal-world case studies of successful implementations\n\nWe’ll hear from the Experts at: \n\nMichigan State Industrial Training and Assessment Center (MSU ITAC)\nMidwest Energy Efficiency Alliance (MEEA)\nBaumann Consulting\n\nHost/Facilitator:\nAudrey Whaling – Program Manager\, Lansing 2030 District \nThis interactive session will include Q&A time to address your specific benchmarking challenges. Perfect for building owners\, facility managers\, sustainability professionals\, and anyone responsible for tracking energy performance. \nWho Should Attend: \n\nBuilding owners and property managers\nFacility and energy managers\nConsultants and service providers\nMunicipal and organizational leaders\n\nRegister today to master the fundamentals and start making data-driven energy decisions with confidence.
URL:https://2030districts.org/grandrapids/event/webinar-energy-benchmarking-101-what-works-what-doesnt-why/
CATEGORIES:Webinar
END:VEVENT
BEGIN:VEVENT
DTSTART;TZID=UTC:20250618T110000
DTEND;TZID=UTC:20250618T120000
DTSTAMP:20260421T162036
CREATED:20250604T165908Z
LAST-MODIFIED:20250611T180139Z
UID:3038-1750244400-1750248000@2030districts.org
SUMMARY:Lansing 2030 District - Energy Savings 101 -  Tips\, Tricks\, and Tools
DESCRIPTION:A LANSING 2030 DISTRICT EVENT | Register for this event here. \nJoin the Lansing 2030 District for a crash course on Energy Savings Basics in collaboration with experts from Michigan State University’s Industrial Training and Assessment Center (ITAC) Team and Slipstream. \nThis session is designed for building owners\, managers\, facility staff\, community stakeholders and champions within the Lansing 2030 District who are looking to understand and implement foundational energy-saving strategies. \nWhat You’ll Learn: \n\nThe “Why”: Take a quick look at how energy savings plays a role in achieving the Lansing 2030 District’s goals for carbon reduction and saves you money.\nTake Steps for Immediate Impact: Discover straightforward\, actionable steps you can take to reduce energy waste in your building.\nTools\, Tech & Support: Get an introduction to common energy-saving technologies\, techniques\, and tools\, plus guidance on how to access the resources and support for your energy efficiency journey.\nQ&A with the Experts: Have your questions answered by the knowledgeable teams from Slipstream and MSU ITAC.\n\nWhether you’re just starting your energy efficiency journey or looking for a refresher on fundamental principles\, this webinar will provide you with the essential knowledge to make a noticeable difference.  \nRegister today to continue towards a more energy-efficient and resilient Lansing! \nHost/Facilitator:\nAudrey Whaling – Program Manager\, Lansing 2030 District\n \nMain Presenters:\nDr. Kristen Cetin (MSU ITAC)\nJosh Petersen (Slipstream) \nAvailable During Q&A:\nJulianna Thompson (MSU ITAC)\nDebrudra Mitra (MSU ITAC)\nGlenn Voisin (Slipstream)\nNate Simon (Slipstream)
URL:https://2030districts.org/grandrapids/event/lansing-2030-district-energy-savings-101/
CATEGORIES:Webinar
END:VEVENT
BEGIN:VEVENT
DTSTART;TZID=UTC:20250226T120000
DTEND;TZID=UTC:20250226T130000
DTSTAMP:20260421T162036
CREATED:20250130T182603Z
LAST-MODIFIED:20250130T182603Z
UID:2901-1740571200-1740574800@2030districts.org
SUMMARY:2030 Districts Network Webinar – Forecast 2025: Commercial Real Estate and Climate Actions in the New Administration
DESCRIPTION:Join three thought leaders and partners of the 2030 Districts Network to hear their views for the commercial real estate market and climate change actions in the coming year. 2030 Network Executive Director\, Dave Low\, will lead the discussion and open with remarks on Network plans for the year. \nRegister for this webinar here.
URL:https://2030districts.org/grandrapids/event/2030-districts-network-webinar-forecast-2025-commercial-real-estate-and-climate-actions-in-the-new-administration/
CATEGORIES:Webinar
END:VEVENT
BEGIN:VEVENT
DTSTART;TZID=UTC:20250225T100000
DTEND;TZID=UTC:20250225T110000
DTSTAMP:20260421T162036
CREATED:20250130T182349Z
LAST-MODIFIED:20250212T205417Z
UID:2900-1740477600-1740481200@2030districts.org
SUMMARY:Introducing the Emerging Lansing 2030 District WEBINAR
DESCRIPTION:This insightful webinar will explore the emerging Lansing 2030 District! Hear directly from the Program Manager\, Audrey Whaling\, the City of Lansing’s Sustainability Manager\, Lori Welch\, and other key members as they share the story behind this exciting initiative\, why it was developed\, how it aligns with the city’s sustainability goals and how you can benefit. \nIn this session\, you’ll learn: \n\nWhat a 2030 District is and how they support energy efficiency and sustainability in urban environments\nThe benefits of becoming a member or partnering with the Lansing 2030 District\nSuccess story highlights from members\nAvailable resources and tools that the 2030 District offers to support building owners\, managers\, and other stakeholders in achieving their goals related to sustainability\, energy efficiency\, carbon reduction\, energy cost savings\, and healthy buildings.\n\nWhether you’re a building owner\, property manager\, local business\, or sustainability professional\, this webinar will provide valuable information on how you can get involved and take advantage of the resources the Lansing 2030 District offers. \nSpeakers:  \nLori Welch – Sustainability Manager\, City of Lansing\, Michigan\nAudrey Whaling – Program Manager\, Lansing 2030 District \nRegister for this webinar here.
URL:https://2030districts.org/grandrapids/event/introducing-the-emerging-lansing-2030-district-webinar/
CATEGORIES:Webinar
END:VEVENT
END:VCALENDAR