
BEGIN:VCALENDAR
VERSION:2.0
PRODID:-//Bellevue - ECPv6.11.2.1//NONSGML v1.0//EN
CALSCALE:GREGORIAN
METHOD:PUBLISH
X-ORIGINAL-URL:https://2030districts.org/bellevue
X-WR-CALDESC:Events for Bellevue
REFRESH-INTERVAL;VALUE=DURATION:PT1H
X-Robots-Tag:noindex
X-PUBLISHED-TTL:PT1H
BEGIN:VTIMEZONE
TZID:UTC
BEGIN:STANDARD
TZOFFSETFROM:+0000
TZOFFSETTO:+0000
TZNAME:UTC
DTSTART:20260101T000000
END:STANDARD
END:VTIMEZONE
BEGIN:VEVENT
DTSTART;TZID=UTC:20260318T120000
DTEND;TZID=UTC:20260318T133000
DTSTAMP:20260423T191040
CREATED:20260205T175357Z
LAST-MODIFIED:20260205T175912Z
UID:3117-1773835200-1773840600@2030districts.org
SUMMARY:PCBs in Building Materials Awareness & Removal Webinar
DESCRIPTION:Join us virtually for a workshop about PCBs: what they are\, their associated risks\, and how to know if they may be in your building(s)\n\n\n\nJoin us for an online webinar about polychlorinated biphenyls (PCBs) in building materials to learn about what PCBs are\, the threats they pose\, how to know if your building is at risk of containing PCBs\, and ways to approach this issue if you suspect they may be in your building. \nHosted by the Seattle and Bellevue 2030 Districts\, this comprehensive workshop will cover: (1) the dangers and risks associated with PCBs\, (2) their negative impact on human and environmental health\, and (3) best practices for testing\, reporting\, and disposing of PCB-containing materials. \nThis free event is supported by the Washington State Department of Ecology and the EPA Puget Sound Geographic Funds through the Stormwater Strategic Initiative. \nWhat to Expect: \n\nPresentation & Q&A: Gain insights on key topics and case studies informed by environmental professionals and remediation experts\, followed by an interactive Q&A\nGuest Speaker: Hear from Dave DiSimone\, Toxics Reduction Unit Supervisor for the WA State Department of Ecology’s Hazardous Waste and Toxics Reduction Program\nGain Access to Valuable Resources: Attendees will learn about regulatory requirements\, best management practices\, and resources developed by the WA State Department of Ecology and the EPA for identifying and managing PCB contamination effectively.\n\nWhether you’re a building owner\, contractor\, property manager\, environmental professional\, or simply interested in learning more about PCBs\, this event provides the tools and information you need to contribute to a safer\, healthier environment. Register now to secure your spot!
URL:https://2030districts.org/bellevue/event/pcbs-in-building-materials-awareness-removal-webinar-2/
LOCATION:Virtual
END:VEVENT
END:VCALENDAR