
BEGIN:VCALENDAR
VERSION:2.0
PRODID:-//Bellevue - ECPv6.11.2.1//NONSGML v1.0//EN
CALSCALE:GREGORIAN
METHOD:PUBLISH
X-WR-CALNAME:Bellevue
X-ORIGINAL-URL:https://2030districts.org/bellevue
X-WR-CALDESC:Events for Bellevue
REFRESH-INTERVAL;VALUE=DURATION:PT1H
X-Robots-Tag:noindex
X-PUBLISHED-TTL:PT1H
BEGIN:VTIMEZONE
TZID:UTC
BEGIN:STANDARD
TZOFFSETFROM:+0000
TZOFFSETTO:+0000
TZNAME:UTC
DTSTART:20260101T000000
END:STANDARD
END:VTIMEZONE
BEGIN:VEVENT
DTSTART;TZID=UTC:20260224T120000
DTEND;TZID=UTC:20260224T133000
DTSTAMP:20260423T203537
CREATED:20260121T222722Z
LAST-MODIFIED:20260121T222722Z
UID:3081-1771934400-1771939800@2030districts.org
SUMMARY:Vacuum Wastewater and Adaptive Reuse Lunch & Learn
DESCRIPTION:Explore how vacuum wastewater technology is transforming adaptive reuse and modern building design at our Lunch & Learn\n\n\n\nConnect over lunch for an engaging discussion on how vacuum wastewater technology is transforming adaptive reuse and modern building design at our Vacuum Wastewater & Adaptive Reuse Lunch & Learn\, featuring Evac. \nWith more than 40 years of experience\, Evac has been helping building projects overcome site-specific challenges through innovative vacuum wastewater collection systems. Originally adapted from the transportation industry\, this versatile technology offers a powerful alternative to traditional gravity systems—delivering flexibility\, significant water savings\, and strong sustainability performance for both new construction and adaptive reuse projects. \nJoin us for an informative presentation exploring how vacuum wastewater systems can support historic renovations\, complex retrofits\, and high-performance commercial buildings. Learn how these systems contribute to green building certifications such as LEED\, BREEAM\, DGNB\, and HQE\, while helping future-proof buildings against evolving regulations and rising water\, waste\, and carbon costs. \nLunch will be provided\, along with opportunities to ask questions and connect with fellow industry professionals. \nWhat to Expect: \n\nVacuum Wastewater 101: An introduction to vacuum plumbing systems for new construction\, adaptive reuse\, and historic buildings\nSystem Components Explained: Overview of vacuum generators\, interface valves\, plumbing fixtures\, and how they work together\nDesign & Planning Guidance: Key considerations\, design flexibility\, and the right questions to ask when evaluating vacuum wastewater solutions\nSmarter Plumbing Design: Learn how vacuum systems enable flexible piping layouts\, eliminate vent piping\, and simplify challenging retrofits\nHealth & Safety Benefits: How vacuum wastewater systems help reduce the spread of viruses and bacteria—especially relevant for healthcare and high-occupancy buildings\nSustainability & Savings: Energy and water savings that support LEED\, BREEAM\, and other green building certifications\nReal-World Applications: Adaptive reuse solutions and completed project examples from across the United States\n\nThis event is ideal for architects\, engineers\, developers\, property managers\, sustainability professionals\, and anyone working on adaptive reuse or high-performance commercial building projects. \nThank you to our Event Sponsor: CHC Hydro!
URL:https://2030districts.org/bellevue/event/vacuum-wastewater-and-adaptive-reuse-lunch-learn/
LOCATION:Smart Buildings Center\, 1200 12th Ave S.\, Seattle\, WA\, 98144\, United States
END:VEVENT
BEGIN:VEVENT
DTSTART;TZID=UTC:20260225T110000
DTEND;TZID=UTC:20260225T130000
DTSTAMP:20260423T203537
CREATED:20260121T223354Z
LAST-MODIFIED:20260121T223354Z
UID:3082-1772017200-1772024400@2030districts.org
SUMMARY:Lunch & Learn: Collaborative Stormwater Solutions in Action
DESCRIPTION:Discover how innovative stormwater solutions are advancing climate resilience!\n\n\n\nJoin us for a lunch and learn highlighting the Adopt-a-Downspout program and other innovative stormwater initiatives that are advancing climate resilience in our region. Hear from leaders at WSDOT\, Stewardship Partners\, and The Nature Conservancy as they discuss cross-sector collaboration\, funding pathways for municipalities\, and on-the-ground projects in Bellevue\, including the recently installed Boxes of Rain beneath the I-405 to I-90 HOV on-ramp. \nThe program will conclude with an optional site visit to view the Rain Boxes in action; attendees should plan to drive or carpool for this portion. Bring rain gear and prepare to join in the field even if it is raining. Then you will get to see the Box of Rain in action. The installation is under an on-ramp so we will have some cover. \nWhat to Expect: \n\nExpert Panel Discussion: Learn about the Adopt-a-Downspout program and other innovative stormwater strategies supporting climate resilience\nCross-Sector Insights: Hear from WSDOT\, Stewardship Partners\, and The Nature Conservancy on collaboration\, funding opportunities\, and implementation lessons\nLocal Project Highlights: Explore stormwater projects in Bellevue\, including the Boxes of Rain installation near the I-405 to I-90 interchange\nOptional Site Visit: See the Boxes of Rain up close and learn how they function in a real-world setting\nRain or Shine Experience: Come prepared for outdoor conditions and get a firsthand look at green infrastructure in action\n\nMeet the Speakers \nKate Sievers | Project Manager for Nature Based Solutions: Kate Sievers (she/her) is an environmental engineer with The Nature Conservancy. She provides technical\, project-based leadership and support to design\, test and implement nature-based solutions that address challenging societal and conservation issues. Prior to working in conservation\, she served in the US Air Force as a Bioenvironmental Engineer for 10 years. \nDavid Burger | Stewardship Partners: David brings 20+ years of experience in community-based salmon recovery and nonprofit leadership. As executive director of Stewardship Partners\, he works with landowners and stakeholders to restore fish and wildlife habitat while supporting economic viability. \nTatiana Driesbach | Stormwater Retrofit Outreach and Innovation Lead WSDOT  & Tony Bush | Stormwater Branch Manager WSDOT \nBoth Tatiana Dreisbach and Tony Bush have worked in Washington State Department of Transportation’s (WSDOT) Environmental Services Office since the early 2000s. They both worked for many years in WSDOT’s Wetland Program. Tony managed the Wetland Program before moving to WSDOT’s Stormwater Branch\, as the Stormwater Branch Manager in 2022\, where he manages WSDOT’s programs on National Pollutant Discharge Elimination System (NPDES) permit\, Stormwater Science\, Monitoring & Research\, Stormwater Features Inventory\, Stormwater Retrofits\, and WSDOT’s environmental stewardship related to statewide water quality. Tatiana worked as the Wetland Assessment Lead before moving to the Stormwater Branch in 2023 as the Stormwater Retrofit Outreach and Innovation Lead. Together they are working on WSDOT’s stormwater retrofit program and prioritizing where to improve water quality and quantity\, benefit salmon and other species and habitats\, consider environmental justice and tribal rights and interests\, and incorporate best available science into WSDOT stormwater retrofit planning decisions.
URL:https://2030districts.org/bellevue/event/lunch-learn-collaborative-stormwater-solutions-in-action/
LOCATION:GLY Construction\, 14432 SE Eastgate Way Suite 300\, Bellevue\, 98007\, United States
END:VEVENT
BEGIN:VEVENT
DTSTART;TZID=UTC:20260226T130000
DTEND;TZID=UTC:20260226T143000
DTSTAMP:20260423T203537
CREATED:20260121T223653Z
LAST-MODIFIED:20260121T223653Z
UID:3084-1772110800-1772116200@2030districts.org
SUMMARY:PCBs in Building Materials Awareness & Removal Webinar
DESCRIPTION:Join us remotely to learn about how PCBs are negatively impacting waters across Washington and what you can do to help address this issue\n\n\n\nJoin us for an online webinar about polychlorinated biphenyls (PCBs) in building materials to learn about what PCBs are\, the threats they pose\, how to know if your building is at risk of containing PCBs\, and how to approach this issue if you suspect they may be in your building. \nHosted by the Seattle and Bellevue 2030 Districts\, this comprehensive workshop will cover: (1) the dangers and risks associated with PCBs\, (2) their negative impact on human and environmental health\, (3) stormwater management BMPs and how to comply with new regulations\, and (4) best practices for testing\, reporting\, and disposing of PCB-containing materials. \nThis free event is supported by the Washington State Department of Ecology and the EPA Puget Sound Geographic Funds through the Stormwater Strategic Initiative. \nWhat to Expect: \n\nPresentation & Q&A: Gain insights on key topics informed by environmental professionals and remediation experts\, followed by an interactive Q&A with special guest speaker\, Dave DiSimone (Toxics Reduction Unit Supervisor for the WA State Department of Ecology’s Hazardous Waste and Toxics Reduction Program).\nGain Access to Valuable Resources: Attendees will learn about regulatory requirements\, best management practices\, and resources developed by the WA State Department of Ecology and the EPA for identifying and managing PCB contamination effectively.\n\nWhether you’re a building owner\, contractor\, property manager\, environmental professional\, or simply interested in learning more about PCBs\, this event provides the tools and information you need to contribute to a safer\, healthier environment. Register now to secure your spot!
URL:https://2030districts.org/bellevue/event/pcbs-in-building-materials-awareness-removal-webinar/
LOCATION:Online
END:VEVENT
END:VCALENDAR