
BEGIN:VCALENDAR
VERSION:2.0
PRODID:-//Ann Arbor - ECPv6.11.2.1//NONSGML v1.0//EN
CALSCALE:GREGORIAN
METHOD:PUBLISH
X-ORIGINAL-URL:https://2030districts.org/annarbor
X-WR-CALDESC:Events for Ann Arbor
REFRESH-INTERVAL;VALUE=DURATION:PT1H
X-Robots-Tag:noindex
X-PUBLISHED-TTL:PT1H
BEGIN:VTIMEZONE
TZID:America/New_York
BEGIN:DAYLIGHT
TZOFFSETFROM:-0500
TZOFFSETTO:-0400
TZNAME:EDT
DTSTART:20260308T070000
END:DAYLIGHT
BEGIN:STANDARD
TZOFFSETFROM:-0400
TZOFFSETTO:-0500
TZNAME:EST
DTSTART:20261101T060000
END:STANDARD
END:VTIMEZONE
BEGIN:VEVENT
DTSTART;TZID=America/New_York:20260416T110000
DTEND;TZID=America/New_York:20260416T120000
DTSTAMP:20260419T215534
CREATED:20260309T191239Z
LAST-MODIFIED:20260309T191239Z
UID:3498-1776337200-1776340800@2030districts.org
SUMMARY:Spring SFBC Virtual Coffee Meetup
DESCRIPTION:Join for a casual\, virtual coffee meetup to connect with fellow food business operators and get peer support with troubleshooting sustainability challenges in your food business. The loose theme of conversation is “measure what matters.” This event will include loosely facilitated conversation around the topic of data\, measurement\, and impact tracking. Bring a cozy beverage and come prepared to discuss current challenges you are facing in implementing sustainability initiatives in your business and/or capturing data to measure impact.
URL:https://2030districts.org/annarbor/event/spring-sfbc-virtual-coffee-meetup/
ORGANIZER;CN="Sustainable Food Business Coalition":MAILTO:AMarkgraf@a2gov.org
END:VEVENT
END:VCALENDAR